BEGIN:VCALENDAR
VERSION:2.0
PRODID:-//Seminare
CALSCALE:GREGORIAN
METHOD:PUBLISH
X-WR-CALNAME:Seminare
X-ORIGINAL-URL:https://seminare.academy-isc.de/seminar/respekt-gewinnen-ueberzeugungskraft-entfalten-3/
X-WR-CALDESC:RESPEKT GEWINNEN – Überzeugungskraft entfalten
BEGIN:VEVENT
DTSTART;TZID=Europe/Helsinki:20250925T170000
DTEND;TZID=Europe/Helsinki:20250925T193000
SUMMARY:RESPEKT GEWINNEN – Überzeugungskraft entfalten
DESCRIPTION:Termin: Donnerstag, 25. September 2025, 17:00–19:30 Uhr VA-Ort: Kieselstein-Villa | Erzbergerstraße 3 | 09116 Chemnitz | 2. OG die Platzanzahl ist begrenzt – Anmeldungen werden in der Reihenfolge ihres Eingangs berücksichtigt das Seminar kann aufgrund der Förderung durch den Freistaat Sachsen kostenfrei angeboten werden auf Wunsch erhalten Sie eine Teilnahmebescheinigung bei Verhinderung bitten wir um eine rechtzeitige Information über info@academy-isc.de!
URL:https://seminare.academy-isc.de/seminar/respekt-gewinnen-ueberzeugungskraft-entfalten-3/
LOCATION:Kieselstein-Villa | Erzbergerstraße 3 | 09116 Chemnitz | 2. OG
END:VEVENT
END:VCALENDAR
