BEGIN:VCALENDAR
VERSION:2.0
PRODID:-//Seminare
CALSCALE:GREGORIAN
METHOD:PUBLISH
X-WR-CALNAME:Seminare
X-ORIGINAL-URL:https://seminare.academy-isc.de/seminar/take-care-achtsames-management-kommunikation-und-organisation-bei-der-interkulturellen-und-gemeinwesenarbeit-achtsam-gestalten/
X-WR-CALDESC:TAKE CARE: ACHTSAMES MANAGEMENT. Kommunikation und Organisation bei der interkulturellen und Gemeinwesenarbeit achtsam gestalten
BEGIN:VEVENT
DTSTART;TZID=Europe/Helsinki:20251105T170000
DTEND;TZID=Europe/Helsinki:20251105T193000
SUMMARY:TAKE CARE: ACHTSAMES MANAGEMENT. Kommunikation und Organisation bei der interkulturellen und Gemeinwesenarbeit achtsam gestalten
DESCRIPTION:Termin: Mittwoch, 05. November 2025, 17:00–19:30 Uhr VA-Ort: Räumlichkeiten der academy in der Andréstraße 15 | 09112 Chemnitz-Kaßberg die Platzanzahl ist begrenzt – Anmeldungen werden in der Reihenfolge ihres Eingangs berücksichtigt das Seminar kann aufgrund der Förderung durch den Freistaat Sachsen kostenfrei angeboten werden auf Wunsch erhalten Sie eine Teilnahmebescheinigung bei Verhinderung bitten wir um eine rechtzeitige Information über info@academy-isc.de
URL:https://seminare.academy-isc.de/seminar/take-care-achtsames-management-kommunikation-und-organisation-bei-der-interkulturellen-und-gemeinwesenarbeit-achtsam-gestalten/
LOCATION:academy-isc | Andréstraße 15 | 09112 Chemnitz-Kaßberg
END:VEVENT
END:VCALENDAR
