BEGIN:VCALENDAR
VERSION:2.0
PRODID:-//Seminare
CALSCALE:GREGORIAN
METHOD:PUBLISH
X-WR-CALNAME:Seminare
X-ORIGINAL-URL:https://seminare.academy-isc.de/seminar/haltung-finden-im-kontext-rechtsgerichteter-diskurse/
X-WR-CALDESC:HALTUNG FINDEN IM KONTEXT RECHTSGERICHTETER DISKURSE
BEGIN:VEVENT
DTSTART;TZID=Europe/Helsinki:20251117T170000
DTEND;TZID=Europe/Helsinki:20251125T200000
SUMMARY:HALTUNG FINDEN IM KONTEXT RECHTSGERICHTETER DISKURSE
DESCRIPTION:FAKTEN Termine: Montag, 17.11.2025 &amp; Dienstag, 25.11.2025,  jeweils um 17:00 Uhr   technische Einweisung ab 16:45 Uhr möglich Online-Workshop die Teilnahme ist kostenfrei auf Wunsch wird eine Teilnahmebestätigung ausgestellt
URL:https://seminare.academy-isc.de/seminar/haltung-finden-im-kontext-rechtsgerichteter-diskurse/
LOCATION:Zoom-Onlineportal
END:VEVENT
END:VCALENDAR
