BEGIN:VCALENDAR
VERSION:2.0
PRODID:-//Seminare
CALSCALE:GREGORIAN
METHOD:PUBLISH
X-WR-CALNAME:Seminare
X-ORIGINAL-URL:https://seminare.academy-isc.de/seminar/den-islam-gibt-es-nicht-wissens-input-zu-geschichte-auspraegungen-und-stroemungen-des-islam-im-arabisch-persischen-kulturraum-sowie-aktuellen-debattenlagen/
X-WR-CALDESC:&#8222;DEN Islam gibt es nicht&#8230;&#8220; – Wissens-Input zu Geschichte, Ausprägungen und Strömungen des Islam sowie aktuellen Debattenlagen
BEGIN:VEVENT
DTSTART;TZID=Europe/Helsinki:20241105T163000
DTEND;TZID=Europe/Helsinki:20241105T190000
SUMMARY:„DEN Islam gibt es nicht…“ – Wissens-Input zu Geschichte, Ausprägungen und Strömungen des Islam sowie aktuellen Debattenlagen
DESCRIPTION:Termin: Dienstag, 5. November 2024, 16:30–19:00 Uhr TEILNAHME VOR ORT ODER ONLINE MÖGLICH (Bitte auswählen !) Neue Adresse Durchführung PRÄSENZ-Seminar: Räumlichkeiten der academy-isc | Andréstraße 15 | 09112 Chemnitz ONLINE-Teilnahme: Nach Ihrer Anmeldung und erfolgter Registrierung erhalten Sie die Zugangsdaten zum ZOOM-Portal die Platzanzahl ist begrenzt – Anmeldungen werden in der Reihenfolge ihres Eingangs berücksichtigt das Seminar kann aufgrund der Förderung durch den Freistaat Sachsen kostenfrei angeboten werden auf Wunsch erhalten Sie eine Teilnahmebescheinigung bei Verhinderung bitten wir um eine rechtzeitige Information über info@academy-isc.de
URL:https://seminare.academy-isc.de/seminar/den-islam-gibt-es-nicht-wissens-input-zu-geschichte-auspraegungen-und-stroemungen-des-islam-im-arabisch-persischen-kulturraum-sowie-aktuellen-debattenlagen/
LOCATION:HYBRID-SPECIAL Seminar
END:VEVENT
END:VCALENDAR
