BEGIN:VCALENDAR
VERSION:2.0
PRODID:-//Seminare
CALSCALE:GREGORIAN
METHOD:PUBLISH
X-WR-CALNAME:Seminare
X-ORIGINAL-URL:https://seminare.academy-isc.de/seminar/ausdruck-und-verstehen-mit-stimme-und-auftreten-wirkung-erzielen-und-menschen-erreichen-aue/
X-WR-CALDESC:AUSDRUCK UND VERSTEHEN. Mit Stimme und Auftreten Wirkung erzielen und Menschen erreichen (AUE)
BEGIN:VEVENT
DTSTART;TZID=Europe/Helsinki:20241125T160000
DTEND;TZID=Europe/Helsinki:20241125T190000
SUMMARY:AUSDRUCK UND VERSTEHEN. Mit Stimme und Auftreten Wirkung erzielen und Menschen erreichen (AUE)
DESCRIPTION:Termin: Montag, 25. November 2024, 16:00–19:00 Uhr VA-Ort: Bahnhofstraße 13 in 08280 Aue-Bad Schlema | Kompetenzzentrum für Gemeinwesenarbeit und Engagement e.V. (KGE) die Platzanzahl ist begrenzt – Anmeldungen werden in der Reihenfolge ihres Eingangs berücksichtigt das Seminar kann aufgrund der Förderung durch den Freistaat Sachsen kostenfrei angeboten werden auf Wunsch erhalten Sie eine Teilnahmebescheinigung bei Verhinderung bitten wir um eine rechtzeitige Information über info@academy-isc.de
URL:https://seminare.academy-isc.de/seminar/ausdruck-und-verstehen-mit-stimme-und-auftreten-wirkung-erzielen-und-menschen-erreichen-aue/
LOCATION:Bahnhofstraße 13 in 08280 Aue-Bad Schlema | Kompetenzzentrum für Gemeinwesenarbeit und Engagement e.V. (KGE)
END:VEVENT
END:VCALENDAR
