BEGIN:VCALENDAR
VERSION:2.0
PRODID:-//Seminare
CALSCALE:GREGORIAN
METHOD:PUBLISH
X-WR-CALNAME:Seminare
X-ORIGINAL-URL:https://seminare.academy-isc.de/seminar/konflikte-managen-gewaltfrei-kommunizieren-den-uebergang-von-vorurteilen-in-gewalt-stoppen-2/
X-WR-CALDESC:KONFLIKTE MANAGEN – GEWALTFREI KOMMUNIZIEREN. Den Übergang von Vorurteilen in Gewalt stoppen
BEGIN:VEVENT
DTSTART;TZID=Europe/Helsinki:20240926T163000
DTEND;TZID=Europe/Helsinki:20240926T190000
SUMMARY:KONFLIKTE MANAGEN – GEWALTFREI KOMMUNIZIEREN. Den Übergang von Vorurteilen in Gewalt stoppen
DESCRIPTION:Termin: Donnerstag, 26. September 2024, 16:30–19:00 Uhr ACHTUNG neuer VA-Ort: Räumlichkeiten der academy-isc |  Andréstraße 15 | 09112 Chemnitz-Kaßberg die Platzanzahl ist begrenzt – Anmeldungen werden in der Reihenfolge ihres Eingangs berücksichtigt das Seminar kann aufgrund der Förderung durch den Freistaat Sachsen kostenfrei angeboten werden auf Wunsch erhalten Sie eine Teilnahmebescheinigung bei Verhinderung bitten wir um eine rechtzeitige Information über info@academy-isc.de
URL:https://seminare.academy-isc.de/seminar/konflikte-managen-gewaltfrei-kommunizieren-den-uebergang-von-vorurteilen-in-gewalt-stoppen-2/
LOCATION:academy-isc | Andréstraße 15 | 09112 Chemnitz
END:VEVENT
END:VCALENDAR
