BEGIN:VCALENDAR
VERSION:2.0
PRODID:-//Seminare
CALSCALE:GREGORIAN
METHOD:PUBLISH
X-WR-CALNAME:Seminare
X-ORIGINAL-URL:https://seminare.academy-isc.de/seminar/selbstfuersorgekompetenz-fuer-den-engagierten-menschen-im-interkulturellen-und-im-care-bereich-4/
X-WR-CALDESC:SELBSTFÜRSORGEKOMPETENZ für den engagierten Menschen im interkulturellen und im Care-Bereich
BEGIN:VEVENT
DTSTART;TZID=Europe/Helsinki:20241022T163000
DTEND;TZID=Europe/Helsinki:20241022T190000
SUMMARY:SELBSTFÜRSORGEKOMPETENZ für den engagierten Menschen im interkulturellen und im Care-Bereich
DESCRIPTION:&nbsp; Termin: Dienstag, 22. Oktober 2024, 16:30–19:00 Uhr VA-Ort: Kieselstein-Villa | Erzbergerstraße 3 | 09116 Chemnitz | 2. OG die Platzanzahl ist begrenzt – Anmeldungen werden in der Reihenfolge ihres Eingangs berücksichtigt das Seminar kann aufgrund der Förderung durch den Freistaat Sachsen kostenfrei angeboten werden auf Wunsch erhalten Sie eine Teilnahmebescheinigung bei Verhinderung bitten wir um eine rechtzeitige Information über info@academy-isc.de
URL:https://seminare.academy-isc.de/seminar/selbstfuersorgekompetenz-fuer-den-engagierten-menschen-im-interkulturellen-und-im-care-bereich-4/
LOCATION:Kieselstein-Villa | Erzbergerstraße 3 | 09116 Chemnitz | 2. OG
END:VEVENT
END:VCALENDAR
