BEGIN:VCALENDAR
VERSION:2.0
PRODID:-//Seminare
CALSCALE:GREGORIAN
METHOD:PUBLISH
X-WR-CALNAME:Seminare
X-ORIGINAL-URL:https://seminare.academy-isc.de/seminar/konfliktmanagement-auf-basis-gewaltfreier-kommunikation-grundlagenseminar-3/
X-WR-CALDESC:KONFLIKTMANAGEMENT auf Basis Gewaltfreier Kommunikation Grundlagenseminar 3
BEGIN:VEVENT
DTSTART;TZID=Europe/Helsinki:20231127T170000
DTEND;TZID=Europe/Helsinki:20231127T200000
SUMMARY:KONFLIKTMANAGEMENT auf Basis Gewaltfreier Kommunikation Grundlagenseminar 3
DESCRIPTION:FAKTEN Termin: Montag, 27.11.2023, 17:00 Uhr technische Einweisung ab 16:45 Uhr möglich Online-Seminar die Teilnahme ist kostenfrei auf Wunsch wird eine Teilnahmebestätigung ausgestellt Aufgrund der hohen Nachfrage können Sie sich nur noch für eine Warteliste registrieren, Sie werden von uns bis Ende Oktober 2023 informiert, ob eine Teilnahme möglich ist. 
URL:https://seminare.academy-isc.de/seminar/konfliktmanagement-auf-basis-gewaltfreier-kommunikation-grundlagenseminar-3/
LOCATION:Online-Seminar
END:VEVENT
END:VCALENDAR
