BEGIN:VCALENDAR
VERSION:2.0
PRODID:-//Seminare
CALSCALE:GREGORIAN
METHOD:PUBLISH
X-WR-CALNAME:Seminare
X-ORIGINAL-URL:https://seminare.academy-isc.de/seminar/mediation-als-grundkompetenz-beim-umgang-mit-interkulturellen-konflikten-grundlagenseminar-2/
X-WR-CALDESC:AUSGEBUCHT! MEDIATION als Grundkompetenz beim Umgang mit interkulturellen Konflikten &#8211; Grundlagenseminar 2
BEGIN:VEVENT
DTSTART;TZID=Europe/Helsinki:20231108T170000
DTEND;TZID=Europe/Helsinki:20231108T200000
SUMMARY:AUSGEBUCHT! MEDIATION als Grundkompetenz beim Umgang mit interkulturellen Konflikten – Grundlagenseminar 2
DESCRIPTION:FAKTEN Termin: Mittwoch, 08.11.2023, 17:00 Uhr technische Einweisung ab 16:45 Uhr möglich Online-Seminar die Teilnahme ist kostenfrei auf Wunsch wird eine Teilnahmebestätigung ausgestellt Ausgebucht!
URL:https://seminare.academy-isc.de/seminar/mediation-als-grundkompetenz-beim-umgang-mit-interkulturellen-konflikten-grundlagenseminar-2/
LOCATION:Online-Seminar
END:VEVENT
END:VCALENDAR
