BEGIN:VCALENDAR
VERSION:2.0
PRODID:-//Seminare
CALSCALE:GREGORIAN
METHOD:PUBLISH
X-WR-CALNAME:Seminare
X-ORIGINAL-URL:https://seminare.academy-isc.de/seminar/mediation-als-grundkompetenz-beim-umgang-mit-interkulturellen-konflikten-grundlagenseminar-i/
X-WR-CALDESC:Ausgebucht! MEDIATION als Grundkompetenz beim Umgang mit interkulturellen Konflikten &#8211; Grundlagenseminar 1
BEGIN:VEVENT
DTSTART;TZID=Europe/Helsinki:20231106T170000
DTEND;TZID=Europe/Helsinki:20231106T200000
SUMMARY:Ausgebucht! MEDIATION als Grundkompetenz beim Umgang mit interkulturellen Konflikten – Grundlagenseminar 1
DESCRIPTION:FAKTEN Ausgebucht! Termin: Montag, 06.11.2023, 17:00 Uhr technische Einweisung ab 16:45 Uhr möglich Online-Seminar die Teilnahme ist kostenfrei auf Wunsch wird eine Teilnahmebestätigung ausgestellt
URL:https://seminare.academy-isc.de/seminar/mediation-als-grundkompetenz-beim-umgang-mit-interkulturellen-konflikten-grundlagenseminar-i/
LOCATION:Online-Seminar
END:VEVENT
END:VCALENDAR
