BEGIN:VCALENDAR
VERSION:2.0
PRODID:-//Seminare
CALSCALE:GREGORIAN
METHOD:PUBLISH
X-WR-CALNAME:Seminare
X-ORIGINAL-URL:https://seminare.academy-isc.de/seminar/konflikte-managen-gewaltfrei-kommunizieren-den-uebergang-von-vorurteilen-in-gewalt-stoppen/
X-WR-CALDESC:AUSGEBUCHT! KONFLIKTE MANAGEN – GEWALTFREI KOMMUNIZIEREN. Den Übergang von Vorurteilen in Gewalt stoppen
BEGIN:VEVENT
DTSTART;TZID=Europe/Helsinki:20230522T163000
DTEND;TZID=Europe/Helsinki:20230522T193000
SUMMARY:AUSGEBUCHT! KONFLIKTE MANAGEN – GEWALTFREI KOMMUNIZIEREN. Den Übergang von Vorurteilen in Gewalt stoppen
DESCRIPTION:Dieses Seminar ist leider ausgebucht. Sie können sich aber auf eine Warteliste setzen lassen. Hierfür genügt eine E-Mail an info@academy-isc.de. Wir informieren Sie dann gerne, sobald ein Platz frei geworden ist. &nbsp; Termin: Montag, 22. Mai 2023, 16:30–19:30 Uhr Ort: Kieselstein-Villa | Erzbergerstraße 3 | 09116 Chemnitz | 2. OG die Platzanzahl ist begrenzt – Anmeldungen werden in der Reihenfolge ihres Eingangs berücksichtigt das Seminar kann aufgrund der Förderung durch den Freistaat Sachsen kostenfrei angeboten werden auf Wunsch wird eine Teilnahmebestätigung ausgestellt bei Verhinderung bitten wir um eine rechtzeitige Information über info@academy-isc.de
URL:https://seminare.academy-isc.de/seminar/konflikte-managen-gewaltfrei-kommunizieren-den-uebergang-von-vorurteilen-in-gewalt-stoppen/
LOCATION:Kieselstein-Villa | Erzbergerstraße 3 | 09116 Chemnitz | 2. OG
END:VEVENT
END:VCALENDAR
