BEGIN:VCALENDAR
VERSION:2.0
PRODID:-//Seminare
CALSCALE:GREGORIAN
METHOD:PUBLISH
X-WR-CALNAME:Seminare
X-ORIGINAL-URL:https://seminare.academy-isc.de/seminar/die-ukraine-land-und-leute-kultur-und-geschichte-3/
X-WR-CALDESC:DIE UKRAINE: Land und Leute, Kultur und Geschichte
BEGIN:VEVENT
DTSTART;TZID=Europe/Helsinki:20220705T170000
DTEND;TZID=Europe/Helsinki:20220705T193000
SUMMARY:DIE UKRAINE: Land und Leute, Kultur und Geschichte
DESCRIPTION:Termin: Dienstag, 05. Juli 2022, 17.00–19.30 Uhr Ort: ITZ Mittweida | Leipziger Straße 25, 09648 Mittweida | VA-Raum 1. Etage die Platzanzahl ist begrenzt – Anmeldungen werden in der Reihenfolge ihres Eingangs berücksichtigt das Seminar kann aufgrund der Förderung durch den Freistaat Sachsen kostenfrei angeboten werden auf Wunsch erhalten Sie eine Teilnahmebescheinigung bei Verhinderung bitten wir um eine rechtzeitige Information über info@academy-isc.de
URL:https://seminare.academy-isc.de/seminar/die-ukraine-land-und-leute-kultur-und-geschichte-3/
LOCATION:ITZ Mittweida | Leipziger Straße 25, 09648 Mittweida | VA-Raum 1. Etage
END:VEVENT
END:VCALENDAR
