BEGIN:VCALENDAR
VERSION:2.0
PRODID:-//Seminare
CALSCALE:GREGORIAN
METHOD:PUBLISH
X-WR-CALNAME:Seminare
X-ORIGINAL-URL:https://seminare.academy-isc.de/seminar/zukunft-fuer-gefluechtete-und-akzeptanz-der-zivilgesellschaft-neue-erkenntnisse-aus-der-forschung-zu-voraussetzungen-gelingender-integration/
X-WR-CALDESC:ZUKUNFT FÜR GEFLÜCHTETE und Akzeptanz der Zivilgesellschaft. Neue Erkenntnisse aus der Forschung zu Voraussetzungen gelingender Integration
BEGIN:VEVENT
DTSTART;TZID=Europe/Helsinki:20220412T170000
DTEND;TZID=Europe/Helsinki:20220412T193000
SUMMARY:ZUKUNFT FÜR GEFLÜCHTETE und Akzeptanz der Zivilgesellschaft. Neue Erkenntnisse aus der Forschung zu Voraussetzungen gelingender Integration
DESCRIPTION:Termin: Dienstag, 12.04.2022 um 17.00 Uhr Ort: ONLINE_Zoom die Teilnahme ist kostenfrei nach erfolgter Anmeldung erhalten Sie die Zugangsdaten zum Onlineportal auf Wunsch wird eine Teilnahmebestätigung ausgestellt die Platzanzahl ist begrenzt – Anmeldungen werden in der Reihenfolge ihres Eingangs berücksichtigt
URL:https://seminare.academy-isc.de/seminar/zukunft-fuer-gefluechtete-und-akzeptanz-der-zivilgesellschaft-neue-erkenntnisse-aus-der-forschung-zu-voraussetzungen-gelingender-integration/
LOCATION:Online-Seminar
END:VEVENT
END:VCALENDAR
