BEGIN:VCALENDAR
VERSION:2.0
PRODID:-//Seminare
CALSCALE:GREGORIAN
METHOD:PUBLISH
X-WR-CALNAME:Seminare
X-ORIGINAL-URL:https://seminare.academy-isc.de/seminar/selbstfuersorgekompetenz-fuer-den-digitalisierten-menschen-im-interkulturellen-und-im-care-bereich/
X-WR-CALDESC:SELBSTFÜRSORGEKOMPETENZ für den digitalisierten Menschen im interkulturellen und im Care-Bereich
BEGIN:VEVENT
DTSTART;TZID=Europe/Helsinki:20220405T170000
DTEND;TZID=Europe/Helsinki:20220405T193000
SUMMARY:SELBSTFÜRSORGEKOMPETENZ für den digitalisierten Menschen im interkulturellen und im Care-Bereich
DESCRIPTION:Termin: Dienstag, 05. April 2022, 17.00–19.30 Uhr Ort: ONLINE_Zoom die Teilnahme ist kostenfrei nach erfolgter Anmeldung erhalten Sie die Zugangsdaten zum Onlineportal auf Wunsch wird eine Teilnahmebestätigung ausgestellt die Platzanzahl ist begrenzt – Anmeldungen werden in der Reihenfolge ihres Eingangs berücksichtigt
URL:https://seminare.academy-isc.de/seminar/selbstfuersorgekompetenz-fuer-den-digitalisierten-menschen-im-interkulturellen-und-im-care-bereich/
LOCATION:Online-Seminar
END:VEVENT
END:VCALENDAR
