BEGIN:VCALENDAR
VERSION:2.0
PRODID:-//Seminare
CALSCALE:GREGORIAN
METHOD:PUBLISH
X-WR-CALNAME:Seminare
X-ORIGINAL-URL:https://seminare.academy-isc.de/seminar/externe-kommunikation-und-interkulturelles-engagement-instrumente-und-strategien-fuer-erfolgreiche-oeffentlichkeitsarbeit-im-gemeinnuetzigen-bereich/
X-WR-CALDESC:EXTERNE KOMMUNIKATION UND INTERKULTURELLES ENGAGEMENT – Instrumente und Strategien für erfolgreiche Öffentlichkeitsarbeit im gemeinnützigen Bereich
BEGIN:VEVENT
DTSTART;TZID=Europe/Helsinki:20220406T170000
DTEND;TZID=Europe/Helsinki:20220406T193000
SUMMARY:EXTERNE KOMMUNIKATION UND INTERKULTURELLES ENGAGEMENT – Instrumente und Strategien für erfolgreiche Öffentlichkeitsarbeit im gemeinnützigen Bereich
DESCRIPTION:Termin: Dienstag, 06. April 2022, 17.00–19.30 Uhr Ort: ONLINE_Zoom die Teilnahme ist kostenfrei nach erfolgter Anmeldung erhalten Sie die Zugangsdaten zum Onlineportal auf Wunsch wird eine Teilnahmebestätigung ausgestellt die Platzanzahl ist begrenzt – Anmeldungen werden in der Reihenfolge ihres Eingangs berücksichtigt
URL:https://seminare.academy-isc.de/seminar/externe-kommunikation-und-interkulturelles-engagement-instrumente-und-strategien-fuer-erfolgreiche-oeffentlichkeitsarbeit-im-gemeinnuetzigen-bereich/
LOCATION:Online-Seminar
END:VEVENT
END:VCALENDAR
