BEGIN:VCALENDAR
VERSION:2.0
PRODID:-//Seminare
CALSCALE:GREGORIAN
METHOD:PUBLISH
X-WR-CALNAME:Seminare
X-ORIGINAL-URL:https://seminare.academy-isc.de/seminar/einfuehrung-in-die-foerdermittel-akquisition/
X-WR-CALDESC:EINFÜHRUNG IN DIE FÖRDERMITTEL-AKQUISITION (ausgebucht)
BEGIN:VEVENT
DTSTART;TZID=Europe/Helsinki:20220324T170000
DTEND;TZID=Europe/Helsinki:20220324T193000
SUMMARY:EINFÜHRUNG IN DIE FÖRDERMITTEL-AKQUISITION (ausgebucht)
DESCRIPTION:Termin: Donnerstag, 24. März 2022, 17.00–19.30 Uhr Ort: ONLINE_Zoom die Teilnahme ist kostenfrei nach erfolgter Anmeldung erhalten Sie die Zugangsdaten zum Onlineportal auf Wunsch wird eine Teilnahmebestätigung ausgestellt die Platzanzahl ist begrenzt – Anmeldungen werden in der Reihenfolge ihres Eingangs berücksichtigt
URL:https://seminare.academy-isc.de/seminar/einfuehrung-in-die-foerdermittel-akquisition/
LOCATION:Online-Seminar
END:VEVENT
END:VCALENDAR
