BEGIN:VCALENDAR
VERSION:2.0
PRODID:-//Seminare
CALSCALE:GREGORIAN
METHOD:PUBLISH
X-WR-CALNAME:Seminare
X-ORIGINAL-URL:https://seminare.academy-isc.de/seminar/authentisch-kommunizieren-als-weg-der-konfliktpraevention-teil-2-zum-themenbereich-umgang-mit-konflikten-2/
X-WR-CALDESC:ZUSATZTERMIN (Wiederholung): „Authentisch kommunizieren als Weg der Konfliktprävention“ – Teil 2 zum Themenbereich: &#8222;UMGANG MIT KONFLIKTEN“
BEGIN:VEVENT
DTSTART;TZID=Europe/Helsinki:20211130T170000
DTEND;TZID=Europe/Helsinki:20211130T193000
SUMMARY:ZUSATZTERMIN (Wiederholung): „Authentisch kommunizieren als Weg der Konfliktprävention“ – Teil 2 zum Themenbereich: „UMGANG MIT KONFLIKTEN“
DESCRIPTION:FAKTEN Termin: Dienstag, 30.11.2021, 17.00 Uhr technische Einweisung ab 16:30 Uhr möglich Online-Seminar die Teilnahme ist kostenfrei auf Wunsch wird eine Teilnahmebestätigung ausgestellt
URL:https://seminare.academy-isc.de/seminar/authentisch-kommunizieren-als-weg-der-konfliktpraevention-teil-2-zum-themenbereich-umgang-mit-konflikten-2/
LOCATION:Online-Seminar
END:VEVENT
END:VCALENDAR
