BEGIN:VCALENDAR
VERSION:2.0
PRODID:-//Seminare
CALSCALE:GREGORIAN
METHOD:PUBLISH
X-WR-CALNAME:Seminare
X-ORIGINAL-URL:https://seminare.academy-isc.de/seminar/vom-umgang-mit-gefuehlen-zwischen-emotionskontrolle-und-affektexplosion-teil-1-zum-themenbereich-umgang-mit-konflikten/
X-WR-CALDESC:Ausgebucht! „Vom Umgang mit Gefühlen – Zwischen Emotionskontrolle und Affektexplosion“ – Teil 1 zum Themenbereich: &#8222;UMGANG MIT KONFLIKTEN“
BEGIN:VEVENT
DTSTART;TZID=Europe/Helsinki:20211123T170000
DTEND;TZID=Europe/Helsinki:20211123T193000
SUMMARY:Ausgebucht! „Vom Umgang mit Gefühlen – Zwischen Emotionskontrolle und Affektexplosion“ – Teil 1 zum Themenbereich: „UMGANG MIT KONFLIKTEN“
DESCRIPTION:FAKTEN Ausgebucht! Termin: Dienstag, 23.11. 2021, 17.00 Uhr technische Einweisung ab 16:45 Uhr möglich Online-Seminar die Teilnahme ist kostenfrei auf Wunsch wird eine Teilnahmebestätigung ausgestellt
URL:https://seminare.academy-isc.de/seminar/vom-umgang-mit-gefuehlen-zwischen-emotionskontrolle-und-affektexplosion-teil-1-zum-themenbereich-umgang-mit-konflikten/
LOCATION:Online-Seminar
END:VEVENT
END:VCALENDAR
