BEGIN:VCALENDAR
VERSION:2.0
PRODID:-//Seminare
CALSCALE:GREGORIAN
METHOD:PUBLISH
X-WR-CALNAME:Seminare
X-ORIGINAL-URL:https://seminare.academy-isc.de/seminar/ausdruck-und-verstehen-mit-stimme-und-auftreten-wirkung-erzielen-und-menschen-erreichen-2/
X-WR-CALDESC:Ausgebucht! AUSDRUCK UND VERSTEHEN. Mit Stimme und Auftreten Wirkung erzielen und Menschen erreichen
BEGIN:VEVENT
DTSTART;TZID=Europe/Helsinki:20211012T140000
DTEND;TZID=Europe/Helsinki:20211012T163000
SUMMARY:Ausgebucht! AUSDRUCK UND VERSTEHEN. Mit Stimme und Auftreten Wirkung erzielen und Menschen erreichen
DESCRIPTION:Termin: Dienstag, 12. Oktober 2021 von 14.00 – 16.30 Uhr Ort: Landratsamt Vogtlandkreis | Dienststelle Plauen | Postplatz 5, 08523 Plauen, EG die Teilnahme ist kostenfrei auf Wunsch wird eine Teilnahmebestätigung ausgestellt die Platzanzahl ist begrenzt – Anmeldungen werden in der Reihenfolge ihres Eingangs berücksichtigt
URL:https://seminare.academy-isc.de/seminar/ausdruck-und-verstehen-mit-stimme-und-auftreten-wirkung-erzielen-und-menschen-erreichen-2/
LOCATION:Postplatz 5, 08523 Plauen
END:VEVENT
END:VCALENDAR
