BEGIN:VCALENDAR
VERSION:2.0
PRODID:-//Seminare
CALSCALE:GREGORIAN
METHOD:PUBLISH
X-WR-CALNAME:Seminare
X-ORIGINAL-URL:https://seminare.academy-isc.de/seminar/zwischen-den-welten-von-interkultureller-kommunikation-zu-transkulturalitaet-6/
X-WR-CALDESC:ZWISCHEN DEN WELTEN: Von interkultureller Kommunikation zu Transkulturalität
BEGIN:VEVENT
DTSTART;TZID=Europe/Helsinki:20211012T110000
DTEND;TZID=Europe/Helsinki:20211012T170000
SUMMARY:ZWISCHEN DEN WELTEN: Von interkultureller Kommunikation zu Transkulturalität
DESCRIPTION:Termin: Dienstag, 12. Oktober 2021, 11.00 – 17.00 Uhr | inkl. einer Pause von 13.30 bis 14.30 Uhr Ort: Landratsamt | Otto-Müller-Straße 7 | 02826 Görlitz | Raum 201 die Teilnahme ist kostenfrei auf Wunsch wird eine Teilnahmebestätigung ausgestellt die Platzanzahl ist begrenzt – Anmeldungen werden in der Reihenfolge ihres Eingangs berücksichtigt
URL:https://seminare.academy-isc.de/seminar/zwischen-den-welten-von-interkultureller-kommunikation-zu-transkulturalitaet-6/
LOCATION:Otto-Müller-Straße 7, 02826 Görlitz
END:VEVENT
END:VCALENDAR
