BEGIN:VCALENDAR
VERSION:2.0
PRODID:-//Seminare
CALSCALE:GREGORIAN
METHOD:PUBLISH
X-WR-CALNAME:Seminare
X-ORIGINAL-URL:https://seminare.academy-isc.de/seminar/effektive-und-gelingende-gespraechsfuehrung-im-paedagogischen-und-interkulturellen-jugend-und-sozialarbeitsbereich-2/
X-WR-CALDESC:EFFEKTIVE und gelingende GESPRÄCHSFÜHRUNG im pädagogischen und interkulturellen, Jugend- und Sozialarbeitsbereich
BEGIN:VEVENT
DTSTART;TZID=Europe/Helsinki:20210720T103000
DTEND;TZID=Europe/Helsinki:20210720T130000
SUMMARY:EFFEKTIVE und gelingende GESPRÄCHSFÜHRUNG im pädagogischen und interkulturellen, Jugend- und Sozialarbeitsbereich
DESCRIPTION:Termin: Dienstag, 20. Juli 2021 von 10.30–13.00 Uhr Ort: Landratsamt | Otto-Müller-Straße 7 | 02826 Görlitz | Raum 201 die Teilnahme ist kostenfrei auf Wunsch wird eine Teilnahmebestätigung ausgestellt die Platzanzahl ist begrenzt – Anmeldungen werden in der Reihenfolge ihres Eingangs berücksichtigt
URL:https://seminare.academy-isc.de/seminar/effektive-und-gelingende-gespraechsfuehrung-im-paedagogischen-und-interkulturellen-jugend-und-sozialarbeitsbereich-2/
LOCATION:Landratsamt | Otto-Müller-Straße 7 | 02826 Görlitz | Raum 201
END:VEVENT
END:VCALENDAR
