BEGIN:VCALENDAR
VERSION:2.0
PRODID:-//Seminare
CALSCALE:GREGORIAN
METHOD:PUBLISH
X-WR-CALNAME:Seminare
X-ORIGINAL-URL:https://seminare.academy-isc.de/seminar/sag-wo-kommst-du-her-schwerpunkt-afrika-kulturelle-und-religioese-besonderheiten-geschichten-und-mentalitaeten/
X-WR-CALDESC:SAG WO KOMMST DU HER? SCHWERPUNKT AFRIKA.  Kulturelle und religiöse Besonderheiten – Geschichte(n) und Mentalitäten
BEGIN:VEVENT
DTSTART;TZID=Europe/Helsinki:20210624T140000
DTEND;TZID=Europe/Helsinki:20210624T163000
SUMMARY:SAG WO KOMMST DU HER? SCHWERPUNKT AFRIKA.  Kulturelle und religiöse Besonderheiten – Geschichte(n) und Mentalitäten
DESCRIPTION:Termin: Donnerstag, 24. Juni 2021 von 14.00–16.30 Uhr Ort: Soziokulturelles Zentrum Malzhaus e. V. | Kellerbühne | Alter Teich 7-9, 08527 Plauen die Teilnahme ist kostenfrei auf Wunsch wird eine Teilnahmebestätigung ausgestellt die Platzanzahl ist begrenzt – Anmeldungen werden in der Reihenfolge ihres Eingangs berücksichtigt
URL:https://seminare.academy-isc.de/seminar/sag-wo-kommst-du-her-schwerpunkt-afrika-kulturelle-und-religioese-besonderheiten-geschichten-und-mentalitaeten/
LOCATION:Alter Teich 7-9, 08527 Plauen
END:VEVENT
END:VCALENDAR
