BEGIN:VCALENDAR
VERSION:2.0
PRODID:-//Seminare
CALSCALE:GREGORIAN
METHOD:PUBLISH
X-WR-CALNAME:Seminare
X-ORIGINAL-URL:https://seminare.academy-isc.de/seminar/was-uns-zusammen-haelt-toleranz-befoerdern-diskriminierung-verhindern/
X-WR-CALDESC:WAS UNS ZUSAMMEN HÄLT. Toleranz befördern – Diskriminierung verhindern
BEGIN:VEVENT
DTSTART;TZID=Europe/Helsinki:20210706T173000
DTEND;TZID=Europe/Helsinki:20210706T200000
SUMMARY:WAS UNS ZUSAMMEN HÄLT. Toleranz befördern – Diskriminierung verhindern
DESCRIPTION:GEÄNDERTE ZEITEN: Dienstag, 06. Juli 2021 von 17.30 – 20.00 Uhr Ort: Kieselstein-Villa | Erzbergerstraße 3 | 09116 Chemnitz  die Teilnahme ist kostenfrei auf Wunsch wird eine Teilnahmebestätigung ausgestellt  die Platzanzahl ist begrenzt – Anmeldungen werden in der Reihenfolge ihres Eingangs berücksichtigt
URL:https://seminare.academy-isc.de/seminar/was-uns-zusammen-haelt-toleranz-befoerdern-diskriminierung-verhindern/
LOCATION:Erzbergerstraße 3, 09116 Chemnitz
END:VEVENT
END:VCALENDAR
