BEGIN:VCALENDAR
VERSION:2.0
PRODID:-//Seminare
CALSCALE:GREGORIAN
METHOD:PUBLISH
X-WR-CALNAME:Seminare
X-ORIGINAL-URL:https://seminare.academy-isc.de/seminar/zwischen-den-welten-von-interkultureller-kommunikation-zu-transkulturalitaet-3/
X-WR-CALDESC:ZWISCHEN DEN WELTEN: Von interkultureller Kommunikation zu Transkulturalität
BEGIN:VEVENT
DTSTART;TZID=Europe/Helsinki:20210630T170000
DTEND;TZID=Europe/Helsinki:20210630T193000
SUMMARY:ZWISCHEN DEN WELTEN: Von interkultureller Kommunikation zu Transkulturalität
DESCRIPTION:Termin: Mittwoch, 30. Juni 2021, 17.00 – 19.30 Uhr Ort: Kieselstein-Villa | Erzbergerstraße 3 | 09116 Chemnitz die Teilnahme ist kostenfrei auf Wunsch wird eine Teilnahmebestätigung ausgestellt die Platzanzahl ist begrenzt – Anmeldungen werden in der Reihenfolge ihres Eingangs berücksichtigt
URL:https://seminare.academy-isc.de/seminar/zwischen-den-welten-von-interkultureller-kommunikation-zu-transkulturalitaet-3/
LOCATION:Erzbergerstraße 3, 09116 Chemnitz
END:VEVENT
END:VCALENDAR
